BEGIN:VCALENDAR
VERSION:2.0
PRODID:-//De Hollandse Club Stockholm - ECPv6.15.18//NONSGML v1.0//EN
CALSCALE:GREGORIAN
METHOD:PUBLISH
X-WR-CALNAME:De Hollandse Club Stockholm
X-ORIGINAL-URL:https://dhcs.se
X-WR-CALDESC:Evenementen voor De Hollandse Club Stockholm
REFRESH-INTERVAL;VALUE=DURATION:PT1H
X-Robots-Tag:noindex
X-PUBLISHED-TTL:PT1H
BEGIN:VTIMEZONE
TZID:Europe/Stockholm
BEGIN:DAYLIGHT
TZOFFSETFROM:+0100
TZOFFSETTO:+0200
TZNAME:CEST
DTSTART:20250330T010000
END:DAYLIGHT
BEGIN:STANDARD
TZOFFSETFROM:+0200
TZOFFSETTO:+0100
TZNAME:CET
DTSTART:20251026T010000
END:STANDARD
BEGIN:DAYLIGHT
TZOFFSETFROM:+0100
TZOFFSETTO:+0200
TZNAME:CEST
DTSTART:20260329T010000
END:DAYLIGHT
BEGIN:STANDARD
TZOFFSETFROM:+0200
TZOFFSETTO:+0100
TZNAME:CET
DTSTART:20261025T010000
END:STANDARD
BEGIN:DAYLIGHT
TZOFFSETFROM:+0100
TZOFFSETTO:+0200
TZNAME:CEST
DTSTART:20270328T010000
END:DAYLIGHT
BEGIN:STANDARD
TZOFFSETFROM:+0200
TZOFFSETTO:+0100
TZNAME:CET
DTSTART:20271031T010000
END:STANDARD
END:VTIMEZONE
BEGIN:VEVENT
DTSTART;TZID=Europe/Stockholm:20260425T140000
DTEND;TZID=Europe/Stockholm:20260425T223000
DTSTAMP:20260421T122127
CREATED:20251215T164816Z
LAST-MODIFIED:20260331T043011Z
UID:1070-1777125600-1777156200@dhcs.se
SUMMARY:Koningsdag
DESCRIPTION:
URL:https://dhcs.se/event/koningsdag/
LOCATION:De Nederlandse ambassade\, Götgatan 16A\, Stockholm\, Sweden
END:VEVENT
BEGIN:VEVENT
DTSTART;TZID=Europe/Stockholm:20260522T180000
DTEND;TZID=Europe/Stockholm:20260522T213000
DTSTAMP:20260421T122127
CREATED:20251215T164924Z
LAST-MODIFIED:20251217T211041Z
UID:1072-1779472800-1779485400@dhcs.se
SUMMARY:Borrelavond met bingo
DESCRIPTION:
URL:https://dhcs.se/event/borrelavond-met-bingo/
LOCATION:De Nederlandse ambassade\, Götgatan 16A\, Stockholm\, Sweden
END:VEVENT
BEGIN:VEVENT
DTSTART;TZID=Europe/Stockholm:20260614T210000
DTEND;TZID=Europe/Stockholm:20260614T233000
DTSTAMP:20260421T122127
CREATED:20251215T165052Z
LAST-MODIFIED:20251215T165052Z
UID:1074-1781470800-1781479800@dhcs.se
SUMMARY:WK voetbal: Nederland – Japan
DESCRIPTION:
URL:https://dhcs.se/event/wk-voetbal-nederland-japan/
LOCATION:De Nederlandse ambassade\, Götgatan 16A\, Stockholm\, Sweden
END:VEVENT
BEGIN:VEVENT
DTSTART;TZID=Europe/Stockholm:20260620T180000
DTEND;TZID=Europe/Stockholm:20260620T220000
DTSTAMP:20260421T122127
CREATED:20251215T165304Z
LAST-MODIFIED:20260331T204701Z
UID:1076-1781978400-1781992800@dhcs.se
SUMMARY:WK voetbal: Nederland - Zweden
DESCRIPTION:
URL:https://dhcs.se/event/wk-voetbal-nederland/
LOCATION:De Nederlandse ambassade\, Götgatan 16A\, Stockholm\, Sweden
END:VEVENT
BEGIN:VEVENT
DTSTART;TZID=Europe/Stockholm:20260822T140000
DTEND;TZID=Europe/Stockholm:20260822T170000
DTSTAMP:20260421T122127
CREATED:20251215T165426Z
LAST-MODIFIED:20251215T165426Z
UID:1078-1787407200-1787418000@dhcs.se
SUMMARY:Buitenactiviteit in het park
DESCRIPTION:Diverse spelletjes voor kinderen en volwassenen.
URL:https://dhcs.se/event/buitenactiviteit-in-het-park/
END:VEVENT
BEGIN:VEVENT
DTSTART;TZID=Europe/Stockholm:20260918T180000
DTEND;TZID=Europe/Stockholm:20260918T213000
DTSTAMP:20260421T122127
CREATED:20251215T165504Z
LAST-MODIFIED:20251217T211032Z
UID:1080-1789754400-1789767000@dhcs.se
SUMMARY:Borrelavond met pubquiz
DESCRIPTION:
URL:https://dhcs.se/event/borrelavond-met-pubquiz/
LOCATION:De Nederlandse ambassade\, Götgatan 16A\, Stockholm\, Sweden
END:VEVENT
BEGIN:VEVENT
DTSTART;TZID=Europe/Stockholm:20261016T180000
DTEND;TZID=Europe/Stockholm:20261016T213000
DTSTAMP:20260421T122127
CREATED:20251215T165537Z
LAST-MODIFIED:20251217T211024Z
UID:1082-1792173600-1792186200@dhcs.se
SUMMARY:Borrelavond
DESCRIPTION:
URL:https://dhcs.se/event/borrelavond-2/
LOCATION:De Nederlandse ambassade\, Götgatan 16A\, Stockholm\, Sweden
END:VEVENT
BEGIN:VEVENT
DTSTART;TZID=Europe/Stockholm:20261129T000000
DTEND;TZID=Europe/Stockholm:20261129T235959
DTSTAMP:20260421T122127
CREATED:20251215T165613Z
LAST-MODIFIED:20251215T165613Z
UID:1084-1795910400-1795996799@dhcs.se
SUMMARY:Sinterklaasfeest
DESCRIPTION:
URL:https://dhcs.se/event/sinterklaasfeest/
LOCATION:De Nederlandse ambassade\, Götgatan 16A\, Stockholm\, Sweden
END:VEVENT
BEGIN:VEVENT
DTSTART;TZID=Europe/Stockholm:20261212T160000
DTEND;TZID=Europe/Stockholm:20261212T200000
DTSTAMP:20260421T122127
CREATED:20251215T165737Z
LAST-MODIFIED:20251215T165737Z
UID:1086-1797091200-1797105600@dhcs.se
SUMMARY:Winterborrel met glühwein
DESCRIPTION:
URL:https://dhcs.se/event/winterborrel-met-gluhwein/
LOCATION:De Nederlandse ambassade\, Götgatan 16A\, Stockholm\, Sweden
END:VEVENT
END:VCALENDAR